BEGIN:VCALENDAR
VERSION:2.0
PRODID:-//National Slag Association - ECPv6.15.20//NONSGML v1.0//EN
CALSCALE:GREGORIAN
METHOD:PUBLISH
X-WR-CALNAME:National Slag Association
X-ORIGINAL-URL:https://nationalslag.org
X-WR-CALDESC:Events for National Slag Association
REFRESH-INTERVAL;VALUE=DURATION:PT1H
X-Robots-Tag:noindex
X-PUBLISHED-TTL:PT1H
BEGIN:VTIMEZONE
TZID:America/Detroit
BEGIN:DAYLIGHT
TZOFFSETFROM:-0500
TZOFFSETTO:-0400
TZNAME:EDT
DTSTART:20230312T070000
END:DAYLIGHT
BEGIN:STANDARD
TZOFFSETFROM:-0400
TZOFFSETTO:-0500
TZNAME:EST
DTSTART:20231105T060000
END:STANDARD
BEGIN:DAYLIGHT
TZOFFSETFROM:-0500
TZOFFSETTO:-0400
TZNAME:EDT
DTSTART:20240310T070000
END:DAYLIGHT
BEGIN:STANDARD
TZOFFSETFROM:-0400
TZOFFSETTO:-0500
TZNAME:EST
DTSTART:20241103T060000
END:STANDARD
BEGIN:DAYLIGHT
TZOFFSETFROM:-0500
TZOFFSETTO:-0400
TZNAME:EDT
DTSTART:20250309T070000
END:DAYLIGHT
BEGIN:STANDARD
TZOFFSETFROM:-0400
TZOFFSETTO:-0500
TZNAME:EST
DTSTART:20251102T060000
END:STANDARD
BEGIN:DAYLIGHT
TZOFFSETFROM:-0500
TZOFFSETTO:-0400
TZNAME:EDT
DTSTART:20260308T070000
END:DAYLIGHT
BEGIN:STANDARD
TZOFFSETFROM:-0400
TZOFFSETTO:-0500
TZNAME:EST
DTSTART:20261101T060000
END:STANDARD
BEGIN:DAYLIGHT
TZOFFSETFROM:-0500
TZOFFSETTO:-0400
TZNAME:EDT
DTSTART:20270314T070000
END:DAYLIGHT
BEGIN:STANDARD
TZOFFSETFROM:-0400
TZOFFSETTO:-0500
TZNAME:EST
DTSTART:20271107T060000
END:STANDARD
END:VTIMEZONE
BEGIN:VEVENT
DTSTART;VALUE=DATE:20240915
DTEND;VALUE=DATE:20240919
DTSTAMP:20260423T185759
CREATED:20240308T150145Z
LAST-MODIFIED:20250214T170300Z
UID:11701-1726358400-1726703999@nationalslag.org
SUMMARY:National Slag Association 2024 Annual Meeting
DESCRIPTION:
URL:https://nationalslag.org/event/national-slag-association-2024-annual-meeting/
LOCATION:JW Marriott – Marco Island Florida\, 400 S Collier Blvd\, Marco Island\, FL\, 34145\, United States
END:VEVENT
BEGIN:VEVENT
DTSTART;VALUE=DATE:20241023
DTEND;VALUE=DATE:20241026
DTSTAMP:20260423T185759
CREATED:20240620T144719Z
LAST-MODIFIED:20240620T144719Z
UID:12271-1729641600-1729900799@nationalslag.org
SUMMARY:NSA @ Euroslag Conference
DESCRIPTION:
URL:https://nationalslag.org/event/nsa-euroslag-conference/
LOCATION:Euroslag\, Bilbao\, Spain
END:VEVENT
BEGIN:VEVENT
DTSTART;TZID=America/Detroit:20250122T090000
DTEND;TZID=America/Detroit:20250122T140000
DTSTAMP:20260423T185800
CREATED:20241109T221451Z
LAST-MODIFIED:20241109T221451Z
UID:12740-1737536400-1737554400@nationalslag.org
SUMMARY:Leadership Meeting
DESCRIPTION:
URL:https://nationalslag.org/event/leadership-meeting-2/
LOCATION:Virtual
END:VEVENT
BEGIN:VEVENT
DTSTART;TZID=America/Detroit:20250312T090000
DTEND;TZID=America/Detroit:20250312T140000
DTSTAMP:20260423T185800
CREATED:20241109T220132Z
LAST-MODIFIED:20250214T143420Z
UID:12730-1741770000-1741788000@nationalslag.org
SUMMARY:Technical\, Environmental\, Marketing Commitee Spring Meeting
DESCRIPTION:
URL:https://nationalslag.org/event/technical-environmental-marketing-commitee-spring-meeting/
LOCATION:Edw. C. Levy Co. – Mercier Building\, 9600 Mercier St.\, Dearborn\, MI\, 48120\, United States
END:VEVENT
BEGIN:VEVENT
DTSTART;TZID=America/Detroit:20250415T183000
DTEND;TZID=America/Detroit:20250415T183000
DTSTAMP:20260423T185800
CREATED:20241109T220739Z
LAST-MODIFIED:20250314T175027Z
UID:12735-1744741800-1744741800@nationalslag.org
SUMMARY:Safety\, Operations\, Allied\, Purchasing Commitee Spring Meeting
DESCRIPTION:Get ready for an exciting  and energizing S.O.A.P Spring Committee Meeting in Birmingham\, AL\, hosted by Tricon Wear Solutions! \nThis is your chance to connect with industry professionals\, gain valuable insights\, and experience Tricon Wear Solutions’ state-of-the-art facility up close.\nKick off the event at Perry’s Steakhouse\, then dive into a full day of learning\, networking\, and exclusive plant tours. From transportation to catered meals\, we’ve got everything covered to ensure a seamless and unforgettable experience. \nEvent Details:\nKickoff Dinner at 6:30 PM on April 15\, 2025 at Perry’s Steakhouse and Grille\, located in lot of DoubleTree. \nStay at the DoubleTree by Hilton Birmingham Perimeter Park\nReserve here: DoubleTree by Hilton – Tricon Wear Solutions \nMeeting begins at 9:00 AM on April 16\, 2025 at the DoubleTree\nfollowed by lunch and plant tour \nTransportation provided from DoubleTree to Tricon Wear Solutions for lunch and tour \nPPE/Dress Code: Hearing & eye protection will be provided; no open-toed shoes \nExclusive opportunity to connect with industry professionals and tour this innovative facility \nDon’t miss out—join us for a unique opportunity to connect\, learn\, and grow with the best in the industry! \nThank you to Allied Member Tricon Wear Solutions for hosting the NSA Safety\, Operations\, Allied\, and Purchasing Spring Committee Meeting!
URL:https://nationalslag.org/event/safety-operations-allied-purchasing-commitee-spring-meeting/
LOCATION:Tricon Wear Solutions\, 8 Perimeter Park South\, Birmingham\, Alabama\, 35243
END:VEVENT
BEGIN:VEVENT
DTSTART;TZID=America/Detroit:20250505T080000
DTEND;TZID=America/Detroit:20250508T170000
DTSTAMP:20260423T185800
CREATED:20241115T001938Z
LAST-MODIFIED:20241115T002102Z
UID:12753-1746432000-1746723600@nationalslag.org
SUMMARY:NSA @ AISTech 2025
DESCRIPTION:
URL:https://nationalslag.org/event/nsa-aistech-2025/
LOCATION:Nashville\, TN
END:VEVENT
BEGIN:VEVENT
DTSTART;TZID=America/Detroit:20250604T090000
DTEND;TZID=America/Detroit:20250604T140000
DTSTAMP:20260423T185800
CREATED:20241109T220605Z
LAST-MODIFIED:20250514T193354Z
UID:12733-1749027600-1749045600@nationalslag.org
SUMMARY:Technical\, Environmental\, Marketing Commitee Summer Meeting
DESCRIPTION:
URL:https://nationalslag.org/event/technical-environmental-marketing-commitee-summer-meeting/
LOCATION:TMS International\, 1155 Business Center Drive\, Suite 200\, Horsham\, PA\, 19044\, United States
END:VEVENT
BEGIN:VEVENT
DTSTART;TZID=America/Detroit:20250723T090000
DTEND;TZID=America/Detroit:20250723T140000
DTSTAMP:20260423T185800
CREATED:20241109T220844Z
LAST-MODIFIED:20250614T023435Z
UID:12737-1753261200-1753279200@nationalslag.org
SUMMARY:Safety\, Operations\, Allied\, Purchasing Commitee Summer Meeting
DESCRIPTION:  \nWe’re pleased to invite you to the upcoming Safety\, Operations\, Allied\, and Purchasing Summer Committee Meeting\, generously hosted by HLS HARD-LINE SOLUTIONS INC.\, part of Hexagon. \nWe extend our sincere thanks to the team at HLS HARD-LINE SOLUTIONS INC.\, part of Hexagon for welcoming us into their space and supporting this important gathering. Their hospitality and commitment to our industry is greatly appreciated\, and we look forward to a productive and engaging session in their impressive facility. \nTuesday – July 22\, 2025 – 6PM\nWelcome Dinner\n40 E. Congress St.\, Suite 150\nTucson\, AZ 85701 \n\n\n\n\nWednesday – July 23\, 2025 – 9AM\nCommittee Meetings\n40 E. Congress St.\, Suite 150\nTucson\, AZ 85701\nBusiness Casual Attire\n \nAdditional Information:\nNearest Airport: Tucson International Airport\nLodging: Leo Kent Hotel\, Tucson\, a Tribute Portfolio Hotel \nLunch provided onsite following committee meetings\nAttendees will have the opportunity to observe the fatigue prevention technologies\, Collison Avoidance systems\, and live TeleOp features.
URL:https://nationalslag.org/event/safety-operations-allied-purchasing-commitee-summer-meeting/
LOCATION:Hexagon-Hard Line Solutions\, 40 East Congress Street\, Suite 150\, Tuscon\, Arizona
END:VEVENT
BEGIN:VEVENT
DTSTART;TZID=America/Detroit:20250915T080000
DTEND;TZID=America/Detroit:20250918T170000
DTSTAMP:20260423T185800
CREATED:20241113T170327Z
LAST-MODIFIED:20250902T222442Z
UID:12746-1757923200-1758214800@nationalslag.org
SUMMARY:National Slag Association 2025 Annual Meeting
DESCRIPTION:2025 National Slag Association Annual Meeting\n						Ritz-Carlton Naples\, Tiburon\n						This high level event is comprised of the major Mill Service Providers\, Iron and Steel Producers\, and numerous Allied members involved in all aspects of the manufacturing of iron and steel slag products. It serves as a venue for the exchange of ideas\, access to the latest developments in the industry\, and an opportunity to address the challenges faced today as the industry prepares for the opportunities presented tomorrow.\n						\n					\n				\n					\n				\n				\n				\n					\n					\n					\n				\n			\n				\n				\n			\n				\n				\n				\n				\n				\n				\n				\n				\n				\n				\n				\n				\n				\n				Meeting Agenda\n			\n			\n				\n				\n				\n				\n				\n				Sponsorship Opportunities\n			\n			\n				\n				\n				\n				\n				\n				Hotel Room Reservations (FULL - Use alternative reservations link)\n			\n			\n				\n				\n				\n				\n				\n				Alternative Hotel Room Reservations\n			\n			\n				\n				\n				\n				\n				\n				Transportation Services\n			\n			\n				\n				\n				\n				\n				\n				Submit a Presentation\n			\n			\n				\n				\n				\n				\n			\n				\n				\n				\n				\n				\n				\n			\n				\n				\n				\n				\n			\n				\n				\n				\n				\n				\n				\n				\n				\n				\n				\n				\n				\n				\n					\n				  \n					  \n					  \n					  \n						   T.E.M Committee Meetings Respond Now Unlimited\n					  \n					  \n					 \n				  \n		  \n				  \n			  \n				\n			\n			\n				\n				\n				\n				\n			\n				\n				\n				\n				\n				\n				\n				\n				\n				\n				\n				Attendee List\n				\n\n\nName\nCompany\n\n\nAdam A Deskins\nAHS Inc.\n\n\nAl Popp\nEdward C. Levy Company\n\n\nAndrew Anacki\nTMS International\n\n\nAnthony Taylor\nTitan International\n\n\nBill Webster\nEdward C. Levy Company\n\n\nBJ Osborne\nTricon Wear Solutions\n\n\nBrandon Karem\nBrandeis Machinery/Power Equipment\n\n\nBrittany Grant\nLAG Equpment\n\n\nBruce Bacon\nSAS Forks/Builtrite/DRKhorse\n\n\nCameron Evans\nBulk Equipment Corp.\n\n\nCarl Erickson\nPhoenix Global\n\n\nCarly Walker\nEdward C. Levy Company\n\n\nCarrie Stanfield\nTricon Wear Solutions\n\n\nCasey Kjos\nBest One\n\n\nCecil Isaacs\nHarsco Environmental\n\n\nCelal Guemueshan\nCast Con Engineering GmbH & Co\n\n\nChad Rogers\nKress Corporation\n\n\nChad Solaris\nTMS International\n\n\nChad Ticknor\nTMS International\n\n\nCharles Cook Jr.\nHarsco Environmental\n\n\nCharles Ochola\nNational Slag Association\n\n\nCharlie Bronco\nEdward C. Levy Company\n\n\nChris Jackovich\nTMS International\n\n\nChris Lait\nBulk Equipment Corp.\n\n\nChristof Mikat\nTML Group\n\n\nConstance Lavoie\nHarsco Environmental\n\n\nConstantino Lannes\nSennebogen LLC\n\n\nDan Johnson\nTMS International\n\n\nDave Tilley\nEdward C. Levy Company\n\n\nDavid Dessureault\nHarsco Environmental\n\n\nDavid Roth\nGPS Global Solutions\n\n\nDeborah Proctor\nToxStrategies\, Inc\n\n\nDon Lindsay\nTMS International\n\n\nDuncan High\nHaver & Boecker Niagara\n\n\nDustin Gaffney\nTMS International\n\n\nElizabeth Sangine\nU.S. Geological Survey\n\n\nEric Carper\nAsbury Buckets/ACS Industries\n\n\nErica Cliver\nTMS International\n\n\nFiliberto Morales\nTMS International\n\n\nFilippo Baldassari\nTransporter Industry International Sales GmbH & Co. KG\n\n\nFrank Stowesand\nCast Con Engineering GmbH & Co\n\n\nGabrielle Ivory\nTMS International\n\n\nGary Horsley\nAHS Inc.\n\n\nGene Iannazzo\nMaximet\n\n\nGeorge Angelis\nTMS International\n\n\nGlenn Hundertmark\nHarsco Environmental\n\n\nHenry Durica\nTMS International\n\n\nJames Brott\nGreat Lakes Best-One Tire\n\n\nJames Hayden\nTMS International\n\n\nJason Hancock\nTMS International\n\n\nJason Kessler\nEdward C. Levy Company\n\n\nJason Lambert\nEdward C. Levy Company\n\n\nJC Pierce\nHexagon\n\n\nJeff Krueger\nUnited Safety\n\n\nJeff Stoker\nSafety Track\n\n\nJeffrey J. Mellen\nPhoenix Global\n\n\nJeremiah Fulks\nAHS Inc.\n\n\nJerimi Yost\nTMS International\n\n\nJerry Rosario\nEdward C. Levy Company\n\n\nJesse Morris\nWhemco\n\n\nJesse Thomas\nEdward C. Levy Company\n\n\nJim Alexander\nKenco Engineering\n\n\nJoe Abed Rabo\nEdward C. Levy Company\n\n\nJoe Fenslau\nEdward C. Levy Company\n\n\nJohn Edwards\nEdward C. Levy Company\n\n\nJohn Groom\nEdward C. Levy Company\n\n\nJohn Keck\nCincinnatti Gasket and Industrial Glass\n\n\nJohn Shen\nTY Cushion Tire\n\n\nJoseph Burkey\nHarsco Environmental\n\n\nJosh Clark\nRUD Chain\n\n\nJosie Saunders\nRUD Chain\n\n\nJulie Blakely\nEdward C. Levy Company\n\n\nJustin Lilly\nAsbury Buckets/ACS Industries\n\n\nJustin Payne\nHexagon\n\n\nKeith Walker\nEdward C. Levy Company\n\n\nKelly Adams\nEdward C. Levy Company\n\n\nKelly Cook\nEdward C. Levy Company\n\n\nKelvin Pittman\nTMS International\n\n\nKendra Mann\nTitan International\n\n\nKenneth Lerner\nCarbicrete\n\n\nKent Klawitter\nLoadman (Once and For All Marketing)\n\n\nKevin Drew\nTMS International\n\n\nKim Boccardi\nTitan International\n\n\nKurt Niederpruem\nTML Group\n\n\nKyle Gardner\nTMS International\n\n\nKylee Callaham\nSennebogen LLC\n\n\nLarry Lytle\nEdward C. Levy Company\n\n\nLouis Grant\nLAG Equipment\n\n\nLovell Bennet\nBuffalo Wire Works Company Inc\n\n\nMark Whalen\nTMS International\n\n\nMarty Reyes\nEdward C. Levy Company\n\n\nMathew Wroblewski\nSAS Forks/Builtrite/DRKhorse\n\n\nMatt Miller\nTitan International\n\n\nMatt Peterson\nCaterpillar Inc.\n\n\nMatt Uecker\nCincinnatti Gasket and Industrial Glass\n\n\nMatt Werstein\nTitan International\n\n\nMatthew Kaput\nTMS International\n\n\nMel Schindler\nAsbury Buckets/ACS Industries\n\n\nMerisa Moore\nTMS International\n\n\nMichael Bivens\nRiggs CAT\n\n\nMichael Honea\nHaver & Boecker Niagara\n\n\nMichael Howarth\nTMS International\n\n\nMichael Lockwood\nEdward C. Levy Company\n\n\nMick Crimmins\nAsbury Buckets/Strickland Mfg\n\n\nMike Costa\nTMS International\n\n\nMike Grohe\nTricon Wear Solutions\n\n\nMike O’Neil\nEdward C. Levy Company\n\n\nMike Wendell\npewag inc\n\n\nNaomi Marshall\nTMS International\n\n\nNathan Kress\nKress Corporation\n\n\nNicholas Metzger\nTMS International\n\n\nNiklas Tornkvist\nMagsort\, ltd\n\n\nOksana Hrytsyk\nTMS International\n\n\nOliver Schwarz\nTransporter Industry International Sales GmbH & Co. KG\n\n\nPaul Overton\nPhoenix Global\n\n\nPete Kearney\nTitan International\n\n\nRandall Blankenship\nAHS Inc.\n\n\nRandall Walker\nCMC Steel\n\n\nRandy White\nBulk Equipment Corp.\n\n\nRick Frischolz\nMagetic Lifting Technologies US – A Crane1 Business\n\n\nRobert Hawk\nTMS International\n\n\nRobert Hickman\nHarsco Environmental\n\n\nRobert Stevens\nTMS International\n\n\nRobert Weinzen\nPhoenix Global\n\n\nRocky Agozzino\nTMS International\n\n\nRuss Burke\nEdward C. Levy Company\n\n\nRyan Hyatt\nEdward C. Levy Company\n\n\nRyan Schade\nHarsco Environmental\n\n\nS. Evan Weiner\nEdward C. Levy Company\n\n\nSam Galloway\nEdward C. Levy Company\n\n\nScott Etherington\nEdward C. Levy Company\n\n\nSeb Pessy\npewag inc\n\n\nShawn Hahney\nPhoenix Global\n\n\nStephanie Hahn\nTMS International\n\n\nStephanie Keeney\nTMS International\n\n\nStephanie Walsko\nPhoenix Global\n\n\nSteve Naglack\nEdward C. Levy Company\n\n\nSteven Hall\nPhoenix Global\n\n\nSteven Schaum\nHarsco Environmental\n\n\nTaylor Oltmann\npewag inc\n\n\nThomas K. Kane\nWhemco\n\n\nTim Stanfield\nHarsco Environmental\n\n\nTodd Wilkin\nBest One\n\n\nTom Gilchrist\nNT Liftec\n\n\nTom Green\nEdward C. Levy Cmpany\n\n\nTom Smith\nEdward C. Levy Company\n\n\nTommy Combs\nEdward C. Levy Company\n\n\nTommy Smith\nEdward C. Levy Company\n\n\nTravis Zimber\nEdward C. Levy Company\n\n\nTyler Schneider\nSafety Track\n\n\nWill Conley\nTMS International\n\n\nWillie Yeber\nTitan International\n\n\nWyatt Heims\nRUD Chain\n\n\nZayd Sufyan\nEdward C. Levy Company\n\n\n\n			\n			\n				\n				\n				\n				\n			\n				\n				\n				\n				\n				\n				\n				\n				\n				\n				\n				Check Registration  CLICK HERE. To register by credit card\, please submit the form below\, in the Credit Card Registration section.\n			\n			\n				\n				\n				\n				\n			\n				\n				\n				\n				\n				\n				\n				\n				\n				\n				\n				Credit Card Registration\n4% processing fee has been added to all credit card registrations. Register by August 9th to ensure you receive your annual meeting swag bag!\n			\n				\n				\n				\n				\n				\n				\n				\n					 \n				\n			\n			\n				\n				\n				\n				\n			\n				\n				\n				\n				\n				\n				\n			\n				\n				\n				\n				\n			\n				\n				\n				\n				\n				\n				\n				\n				\n				\n				\n				\n			\n			\n				\n				\n				\n				\n				\n				\n				\n				\n				\n				Meeting Highlights\n			\n				\n				\n				\n				\n				\n\n\n\n\n\n\nKnowledge Sessions\n\n\n\n\nParticipate in interactive sessions as you hear about the latest developments in the industry including safety\, operations\, marketing\, technical and environmental issues.\n\n\n\n\n\n \n			\n				\n				\n				\n				\n				\n\n\n\n\n\n\nNetworking\n\n\n\n\nThere are plenty of opportunities to meet with key players and decision makers in the iron\, steel and slag industry during the opening reception\, on the golf course\, and at the awards dinner reception.\n\n\n\n\n\n \n			\n				\n				\n				\n				\n				\n\n\n\n\n\n\nExhibitions\n\n\n\n\nSee what our Allied Members in coordination with the purchasing group have to offer. Discuss your needs\, and collectively figure out solutions to the challenges you may face.\n\n\n\n\n\n 
URL:https://nationalslag.org/event/nsa-2025-annual-meeting/
LOCATION:Ritz-Carlton Naples\, Tiburon\, 2600 Tiburon Dr\, Naples\, FL\, 34109\, United States
END:VEVENT
BEGIN:VEVENT
DTSTART;TZID=America/Detroit:20260303T180000
DTEND;TZID=America/Detroit:20260304T160000
DTSTAMP:20260423T185801
CREATED:20251221T215422Z
LAST-MODIFIED:20260216T202718Z
UID:14180-1772560800-1772640000@nationalslag.org
SUMMARY:Joint Committee Meetings
DESCRIPTION:All NSA members are warmly invited to attend the Joint Committee Dinner\, an exciting evening of connection and collaboration with fellow members. \nThe dinner will take place at Mon Ami Gabi beginning at 6:00 PM\, located in the heart of the Las Vegas Strip inside the Paris Las Vegas Hotel & Casino. A valued part of the community since 1999\, the restaurant is led by Executive Chef Vincent Pouessel and is known for its French bistro classics and fresh takes on old-school favorites. \nCommittee meetings will kick off Wednesday morning at 9:00 AM at the Hampton Inn and Suites\, Las Vegas Convention Center\, and the formal agenda will be distributed to registered attendees the week prior. \nWe extend our sincere thanks to our incredible sponsors—RUD Chain\, Titan International\, United Safety\, and United Safety & Survivability Corporation—for making this event possible. \nTo ensure your seat\, please RSVP for both the dinner and the committee meeting in advance. We look forward to a well-attended and memorable evening.
URL:https://nationalslag.org/event/joint-committee-meetings/
LOCATION:Conexpo-Las Vegas\, Las Vegas\, NV
END:VEVENT
BEGIN:VEVENT
DTSTART;TZID=America/Detroit:20260504T080000
DTEND;TZID=America/Detroit:20260506T170000
DTSTAMP:20260423T185801
CREATED:20251221T220938Z
LAST-MODIFIED:20251221T220938Z
UID:14186-1777881600-1778086800@nationalslag.org
SUMMARY:AISTech 2026
DESCRIPTION:
URL:https://nationalslag.org/event/aistech-2026/
LOCATION:Pittsburgh Convention Center\, Pittsburgh\, PA
END:VEVENT
BEGIN:VEVENT
DTSTART;TZID=America/Detroit:20260602T160000
DTEND;TZID=America/Detroit:20260603T140000
DTSTAMP:20260423T185801
CREATED:20251221T221430Z
LAST-MODIFIED:20251221T221430Z
UID:14191-1780416000-1780495200@nationalslag.org
SUMMARY:S.O.A.P Committee Meetings
DESCRIPTION:
URL:https://nationalslag.org/event/s-o-a-p-committee-meetings/
LOCATION:OTRUSA/Tough Chains\, 55 Washington St\, Suite 457\, Brooklyn\, NY\, 11201
END:VEVENT
BEGIN:VEVENT
DTSTART;TZID=America/Detroit:20260728T160000
DTEND;TZID=America/Detroit:20260729T140000
DTSTAMP:20260423T185801
CREATED:20251221T221833Z
LAST-MODIFIED:20260330T202044Z
UID:14195-1785254400-1785333600@nationalslag.org
SUMMARY:T.E.M Committee Meetings
DESCRIPTION:
URL:https://nationalslag.org/event/t-e-m-committee-meetings/
LOCATION:Harsco Environmental\, Seven Fields
END:VEVENT
BEGIN:VEVENT
DTSTART;VALUE=DATE:20260914
DTEND;VALUE=DATE:20260918
DTSTAMP:20260423T185801
CREATED:20251016T124702Z
LAST-MODIFIED:20260408T194952Z
UID:14060-1789344000-1789689599@nationalslag.org
SUMMARY:National Slag Association 2026 Annual Meeting
DESCRIPTION:
URL:https://nationalslag.org/event/national-slag-association-2026-annual-meeting/
LOCATION:Ritz-Carlton Naples\, 280 Vanderbilt Beach Rd\, Naples\, FL\, 34108\, United States
END:VEVENT
END:VCALENDAR