BEGIN:VCALENDAR
VERSION:2.0
PRODID:-//National Slag Association - ECPv6.15.20//NONSGML v1.0//EN
CALSCALE:GREGORIAN
METHOD:PUBLISH
X-WR-CALNAME:National Slag Association
X-ORIGINAL-URL:https://nationalslag.org
X-WR-CALDESC:Events for National Slag Association
REFRESH-INTERVAL;VALUE=DURATION:PT1H
X-Robots-Tag:noindex
X-PUBLISHED-TTL:PT1H
BEGIN:VTIMEZONE
TZID:UTC
BEGIN:STANDARD
TZOFFSETFROM:+0000
TZOFFSETTO:+0000
TZNAME:UTC
DTSTART:20220101T000000
END:STANDARD
END:VTIMEZONE
BEGIN:VTIMEZONE
TZID:America/Detroit
BEGIN:DAYLIGHT
TZOFFSETFROM:-0500
TZOFFSETTO:-0400
TZNAME:EDT
DTSTART:20210314T070000
END:DAYLIGHT
BEGIN:STANDARD
TZOFFSETFROM:-0400
TZOFFSETTO:-0500
TZNAME:EST
DTSTART:20211107T060000
END:STANDARD
BEGIN:DAYLIGHT
TZOFFSETFROM:-0500
TZOFFSETTO:-0400
TZNAME:EDT
DTSTART:20220313T070000
END:DAYLIGHT
BEGIN:STANDARD
TZOFFSETFROM:-0400
TZOFFSETTO:-0500
TZNAME:EST
DTSTART:20221106T060000
END:STANDARD
BEGIN:DAYLIGHT
TZOFFSETFROM:-0500
TZOFFSETTO:-0400
TZNAME:EDT
DTSTART:20230312T070000
END:DAYLIGHT
BEGIN:STANDARD
TZOFFSETFROM:-0400
TZOFFSETTO:-0500
TZNAME:EST
DTSTART:20231105T060000
END:STANDARD
BEGIN:DAYLIGHT
TZOFFSETFROM:-0500
TZOFFSETTO:-0400
TZNAME:EDT
DTSTART:20240310T070000
END:DAYLIGHT
BEGIN:STANDARD
TZOFFSETFROM:-0400
TZOFFSETTO:-0500
TZNAME:EST
DTSTART:20241103T060000
END:STANDARD
END:VTIMEZONE
BEGIN:VTIMEZONE
TZID:America/New_York
BEGIN:DAYLIGHT
TZOFFSETFROM:-0500
TZOFFSETTO:-0400
TZNAME:EDT
DTSTART:20210314T070000
END:DAYLIGHT
BEGIN:STANDARD
TZOFFSETFROM:-0400
TZOFFSETTO:-0500
TZNAME:EST
DTSTART:20211107T060000
END:STANDARD
BEGIN:DAYLIGHT
TZOFFSETFROM:-0500
TZOFFSETTO:-0400
TZNAME:EDT
DTSTART:20220313T070000
END:DAYLIGHT
BEGIN:STANDARD
TZOFFSETFROM:-0400
TZOFFSETTO:-0500
TZNAME:EST
DTSTART:20221106T060000
END:STANDARD
BEGIN:DAYLIGHT
TZOFFSETFROM:-0500
TZOFFSETTO:-0400
TZNAME:EDT
DTSTART:20230312T070000
END:DAYLIGHT
BEGIN:STANDARD
TZOFFSETFROM:-0400
TZOFFSETTO:-0500
TZNAME:EST
DTSTART:20231105T060000
END:STANDARD
END:VTIMEZONE
BEGIN:VEVENT
DTSTART;VALUE=DATE:20230918
DTEND;VALUE=DATE:20230922
DTSTAMP:20260423T164512
CREATED:20211018T213157Z
LAST-MODIFIED:20240307T214428Z
UID:4337-1694995200-1695340799@nationalslag.org
SUMMARY:NSA 2023 Annual Meeting
DESCRIPTION:
URL:https://nationalslag.org/event/nsa-2023-annual-meeting/
LOCATION:Wild Dunes\, Isle of Palms\, SC\, 5757 Palm Blvd\, Isle of Palms\, SC\, 29451\, United States
END:VEVENT
BEGIN:VEVENT
DTSTART;TZID=America/Detroit:20230628T090000
DTEND;TZID=America/Detroit:20230628T130000
DTSTAMP:20260423T164512
CREATED:20230509T172627Z
LAST-MODIFIED:20240205T190016Z
UID:10829-1687942800-1687957200@nationalslag.org
SUMMARY:Technical\, Environment\, Marketing Committee Meeting
DESCRIPTION:Seven Fields\, PA
URL:https://nationalslag.org/event/technical-environment-marketing-committee-meeting/
LOCATION:Harsco Environmental\, Seven Fields
END:VEVENT
BEGIN:VEVENT
DTSTART;TZID=America/Detroit:20230614T090000
DTEND;TZID=America/Detroit:20230614T130000
DTSTAMP:20260423T164512
CREATED:20230509T172044Z
LAST-MODIFIED:20230509T172156Z
UID:10824-1686733200-1686747600@nationalslag.org
SUMMARY:Procurement\, Operations\, Safety\, Allied Committee Meeting
DESCRIPTION:Exton\, PA
URL:https://nationalslag.org/event/procurement-operations-safety-allied-committee-meeting/
LOCATION:Exton\, PA
END:VEVENT
BEGIN:VEVENT
DTSTART;VALUE=DATE:20230315
DTEND;VALUE=DATE:20230316
DTSTAMP:20260423T164512
CREATED:20230120T140541Z
LAST-MODIFIED:20230120T165231Z
UID:10077-1678838400-1678924799@nationalslag.org
SUMMARY:Combined Committee Meeting
DESCRIPTION:
URL:https://nationalslag.org/event/combined-committee-meeting/
LOCATION:Hosted by Sennebogen at ConExpo 23′ Las Vegas\, NV
END:VEVENT
BEGIN:VEVENT
DTSTART;TZID=America/Detroit:20220713T090000
DTEND;TZID=America/Detroit:20220713T130000
DTSTAMP:20260423T164512
CREATED:20220412T222806Z
LAST-MODIFIED:20220511T124218Z
UID:4850-1657702800-1657717200@nationalslag.org
SUMMARY:Marketing\, Technical\, Environmental Summer Committe Meetings
DESCRIPTION:
URL:https://nationalslag.org/event/marketing-technical-environmental-summer-committe-meetings/
LOCATION:Horsham\, PA\, 1155 Business Center Drive\, Horsham\, PA\, 19044\, United States
END:VEVENT
BEGIN:VEVENT
DTSTART;TZID=America/Detroit:20220622T090000
DTEND;TZID=America/Detroit:20220622T130000
DTSTAMP:20260423T164512
CREATED:20220412T222515Z
LAST-MODIFIED:20220511T124123Z
UID:4847-1655888400-1655902800@nationalslag.org
SUMMARY:Procurement\, Operations\, Safety\, Allied Summer Commitee Meetings
DESCRIPTION:
URL:https://nationalslag.org/event/procurement-operations-safety-allied-summer-commitee-meetings/
LOCATION:New Castle\, PA
END:VEVENT
BEGIN:VEVENT
DTSTART;TZID=America/New_York:20220317T090000
DTEND;TZID=America/New_York:20220317T130000
DTSTAMP:20260423T164512
CREATED:20211030T010946Z
LAST-MODIFIED:20211030T010946Z
UID:4392-1647507600-1647522000@nationalslag.org
SUMMARY:Procurement\, Operations\, Safety\, Allied Committees Spring Meeting
DESCRIPTION:
URL:https://nationalslag.org/event/procurement-operations-safety-allied-committees-spring-meeting/
LOCATION:Charlotte NC
END:VEVENT
BEGIN:VEVENT
DTSTART;TZID=America/New_York:20220309T090000
DTEND;TZID=America/New_York:20220309T130000
DTSTAMP:20260423T164512
CREATED:20211030T010116Z
LAST-MODIFIED:20211030T010116Z
UID:4388-1646816400-1646830800@nationalslag.org
SUMMARY:Marketing\, Technical\, Environmental Committees Spring Meeting
DESCRIPTION:
URL:https://nationalslag.org/event/marketing-technical-environmental-committees-spring-meeting/
LOCATION:TBD
END:VEVENT
BEGIN:VEVENT
DTSTART;TZID=America/New_York:20220126T090000
DTEND;TZID=America/New_York:20220126T130000
DTSTAMP:20260423T164512
CREATED:20211028T042328Z
LAST-MODIFIED:20211202T203646Z
UID:4377-1643187600-1643202000@nationalslag.org
SUMMARY:Leadership Meeting
DESCRIPTION:
URL:https://nationalslag.org/event/leadership-meeting/
LOCATION:Bilbao
END:VEVENT
END:VCALENDAR