BEGIN:VCALENDAR
VERSION:2.0
PRODID:-//National Slag Association - ECPv6.15.20//NONSGML v1.0//EN
CALSCALE:GREGORIAN
METHOD:PUBLISH
X-ORIGINAL-URL:https://nationalslag.org
X-WR-CALDESC:Events for National Slag Association
REFRESH-INTERVAL;VALUE=DURATION:PT1H
X-Robots-Tag:noindex
X-PUBLISHED-TTL:PT1H
BEGIN:VTIMEZONE
TZID:America/Detroit
BEGIN:DAYLIGHT
TZOFFSETFROM:-0500
TZOFFSETTO:-0400
TZNAME:EDT
DTSTART:20230312T070000
END:DAYLIGHT
BEGIN:STANDARD
TZOFFSETFROM:-0400
TZOFFSETTO:-0500
TZNAME:EST
DTSTART:20231105T060000
END:STANDARD
BEGIN:DAYLIGHT
TZOFFSETFROM:-0500
TZOFFSETTO:-0400
TZNAME:EDT
DTSTART:20240310T070000
END:DAYLIGHT
BEGIN:STANDARD
TZOFFSETFROM:-0400
TZOFFSETTO:-0500
TZNAME:EST
DTSTART:20241103T060000
END:STANDARD
BEGIN:DAYLIGHT
TZOFFSETFROM:-0500
TZOFFSETTO:-0400
TZNAME:EDT
DTSTART:20250309T070000
END:DAYLIGHT
BEGIN:STANDARD
TZOFFSETFROM:-0400
TZOFFSETTO:-0500
TZNAME:EST
DTSTART:20251102T060000
END:STANDARD
END:VTIMEZONE
BEGIN:VEVENT
DTSTART;TZID=America/Detroit:20240610T180000
DTEND;TZID=America/Detroit:20240610T200000
DTSTAMP:20260423T200154
CREATED:20240502T133613Z
LAST-MODIFIED:20240502T134051Z
UID:12038-1718042400-1718049600@nationalslag.org
SUMMARY:Safety Operations Allied and Purchasing Committee (Dinner)
DESCRIPTION:Participants will be able to tour Kress from 1:00PM – 4:00PM prior to dinner. \nDinner will be at 6:00PM at: \nPizza 150 \n9919 W US Highway 150 \nEdwards\, IL 61528
URL:https://nationalslag.org/event/safety-operations-allied-and-purchasing-committee-dinner/
LOCATION:Pizza 150\, 9919 W US Highway 150\, Edwards\, IL\, 61528\, United States
END:VEVENT
BEGIN:VEVENT
DTSTART;TZID=America/Detroit:20240611T090000
DTEND;TZID=America/Detroit:20240611T170000
DTSTAMP:20260423T200154
CREATED:20240502T133858Z
LAST-MODIFIED:20240502T133858Z
UID:12042-1718096400-1718125200@nationalslag.org
SUMMARY:Safety Operations Allied and Purchasing Committee Meeting
DESCRIPTION:Meeting on June 11 will begin at 9AM with pastries provided.\nMeeting will take place at CAT Edwards Demonstration area.
URL:https://nationalslag.org/event/safety-operations-allied-and-purchasing-committee-meeting/
LOCATION:Cat Edwards Demonstration Area\, 5801 N Smith Rd\, Edwards\, IL\, 61528\, United States
END:VEVENT
END:VCALENDAR